BEGIN:VCALENDAR
VERSION:2.0
PRODID:-//neveterans - ECPv6.15.20//NONSGML v1.0//EN
CALSCALE:GREGORIAN
METHOD:PUBLISH
X-WR-CALNAME:neveterans
X-ORIGINAL-URL:https://www.neveterans.com
X-WR-CALDESC:Events for neveterans
REFRESH-INTERVAL;VALUE=DURATION:PT1H
X-Robots-Tag:noindex
X-PUBLISHED-TTL:PT1H
BEGIN:VTIMEZONE
TZID:America/New_York
BEGIN:DAYLIGHT
TZOFFSETFROM:-0500
TZOFFSETTO:-0400
TZNAME:EDT
DTSTART:20290311T070000
END:DAYLIGHT
BEGIN:STANDARD
TZOFFSETFROM:-0400
TZOFFSETTO:-0500
TZNAME:EST
DTSTART:20291104T060000
END:STANDARD
BEGIN:DAYLIGHT
TZOFFSETFROM:-0500
TZOFFSETTO:-0400
TZNAME:EDT
DTSTART:20300310T070000
END:DAYLIGHT
BEGIN:STANDARD
TZOFFSETFROM:-0400
TZOFFSETTO:-0500
TZNAME:EST
DTSTART:20301103T060000
END:STANDARD
BEGIN:DAYLIGHT
TZOFFSETFROM:-0500
TZOFFSETTO:-0400
TZNAME:EDT
DTSTART:20310309T070000
END:DAYLIGHT
BEGIN:STANDARD
TZOFFSETFROM:-0400
TZOFFSETTO:-0500
TZNAME:EST
DTSTART:20311102T060000
END:STANDARD
END:VTIMEZONE
BEGIN:VEVENT
DTSTART;TZID=America/New_York:20300715T130000
DTEND;TZID=America/New_York:20300715T140000
DTSTAMP:20260419T202904
CREATED:20251115T150907Z
LAST-MODIFIED:20251115T150907Z
UID:10001082-1910350800-1910354400@www.neveterans.com
SUMMARY:Pool Therapy
DESCRIPTION:Pool Therapy\nat CCBA \nErin Umphrey – Therapist \nYou Must have a referral from your PCP to attend!
URL:https://www.neveterans.com/event/pool-therapy/2030-07-15/
LOCATION:NH
END:VEVENT
BEGIN:VEVENT
DTSTART;TZID=America/New_York:20300715T140000
DTEND;TZID=America/New_York:20300715T153000
DTSTAMP:20260419T202904
CREATED:20250924T215331Z
LAST-MODIFIED:20250925T135625Z
UID:10000773-1910354400-1910359800@www.neveterans.com
SUMMARY:neveterans Coffee Social
DESCRIPTION:neveterans Monday Coffee Social\nAfter Aqua Therapy \nat CCBA \n(Every Monday unless posted otherwise\, check the calendar.) \n2:00 pm \nCoffee\, Snacks\, Conversation \nAll are welcome!
URL:https://www.neveterans.com/event/neveterans-coffee-social/2030-07-15/
LOCATION:CCBA Witherell Recreation Center\, 1 Taylor St\, Lebanon\, NH\, 03766\, United States
CATEGORIES:Social
ORGANIZER;CN="neveterans":MAILTO:support@neveterans.com
END:VEVENT
BEGIN:VEVENT
DTSTART;TZID=America/New_York:20300718T130000
DTEND;TZID=America/New_York:20300718T140000
DTSTAMP:20260419T202904
CREATED:20251115T151746Z
LAST-MODIFIED:20251115T151746Z
UID:10001341-1910610000-1910613600@www.neveterans.com
SUMMARY:Pool Therapy
DESCRIPTION:Pool Therapy\nat CCBA \nErin Umphrey – Therapist \nYou Must have a referral from your PCP to attend!
URL:https://www.neveterans.com/event/pool-therapy-2/2030-07-18/
LOCATION:CCBA Witherell Recreation Center\, 1 Taylor St\, Lebanon\, NH\, 03766\, United States
END:VEVENT
BEGIN:VEVENT
DTSTART;TZID=America/New_York:20300722T130000
DTEND;TZID=America/New_York:20300722T140000
DTSTAMP:20260419T202904
CREATED:20251115T150907Z
LAST-MODIFIED:20251115T150907Z
UID:10001083-1910955600-1910959200@www.neveterans.com
SUMMARY:Pool Therapy
DESCRIPTION:Pool Therapy\nat CCBA \nErin Umphrey – Therapist \nYou Must have a referral from your PCP to attend!
URL:https://www.neveterans.com/event/pool-therapy/2030-07-22/
LOCATION:NH
END:VEVENT
BEGIN:VEVENT
DTSTART;TZID=America/New_York:20300722T140000
DTEND;TZID=America/New_York:20300722T153000
DTSTAMP:20260419T202904
CREATED:20250924T215331Z
LAST-MODIFIED:20250925T135625Z
UID:10000774-1910959200-1910964600@www.neveterans.com
SUMMARY:neveterans Coffee Social
DESCRIPTION:neveterans Monday Coffee Social\nAfter Aqua Therapy \nat CCBA \n(Every Monday unless posted otherwise\, check the calendar.) \n2:00 pm \nCoffee\, Snacks\, Conversation \nAll are welcome!
URL:https://www.neveterans.com/event/neveterans-coffee-social/2030-07-22/
LOCATION:CCBA Witherell Recreation Center\, 1 Taylor St\, Lebanon\, NH\, 03766\, United States
CATEGORIES:Social
ORGANIZER;CN="neveterans":MAILTO:support@neveterans.com
END:VEVENT
BEGIN:VEVENT
DTSTART;TZID=America/New_York:20300725T130000
DTEND;TZID=America/New_York:20300725T140000
DTSTAMP:20260419T202904
CREATED:20251115T151746Z
LAST-MODIFIED:20251115T151746Z
UID:10001342-1911214800-1911218400@www.neveterans.com
SUMMARY:Pool Therapy
DESCRIPTION:Pool Therapy\nat CCBA \nErin Umphrey – Therapist \nYou Must have a referral from your PCP to attend!
URL:https://www.neveterans.com/event/pool-therapy-2/2030-07-25/
LOCATION:CCBA Witherell Recreation Center\, 1 Taylor St\, Lebanon\, NH\, 03766\, United States
END:VEVENT
BEGIN:VEVENT
DTSTART;TZID=America/New_York:20300729T130000
DTEND;TZID=America/New_York:20300729T140000
DTSTAMP:20260419T202904
CREATED:20251115T150907Z
LAST-MODIFIED:20251115T150907Z
UID:10001084-1911560400-1911564000@www.neveterans.com
SUMMARY:Pool Therapy
DESCRIPTION:Pool Therapy\nat CCBA \nErin Umphrey – Therapist \nYou Must have a referral from your PCP to attend!
URL:https://www.neveterans.com/event/pool-therapy/2030-07-29/
LOCATION:NH
END:VEVENT
BEGIN:VEVENT
DTSTART;TZID=America/New_York:20300729T140000
DTEND;TZID=America/New_York:20300729T153000
DTSTAMP:20260419T202904
CREATED:20250924T215331Z
LAST-MODIFIED:20250925T135625Z
UID:10000775-1911564000-1911569400@www.neveterans.com
SUMMARY:neveterans Coffee Social
DESCRIPTION:neveterans Monday Coffee Social\nAfter Aqua Therapy \nat CCBA \n(Every Monday unless posted otherwise\, check the calendar.) \n2:00 pm \nCoffee\, Snacks\, Conversation \nAll are welcome!
URL:https://www.neveterans.com/event/neveterans-coffee-social/2030-07-29/
LOCATION:CCBA Witherell Recreation Center\, 1 Taylor St\, Lebanon\, NH\, 03766\, United States
CATEGORIES:Social
ORGANIZER;CN="neveterans":MAILTO:support@neveterans.com
END:VEVENT
BEGIN:VEVENT
DTSTART;TZID=America/New_York:20300801T130000
DTEND;TZID=America/New_York:20300801T140000
DTSTAMP:20260419T202904
CREATED:20251115T151746Z
LAST-MODIFIED:20251115T151746Z
UID:10001343-1911819600-1911823200@www.neveterans.com
SUMMARY:Pool Therapy
DESCRIPTION:Pool Therapy\nat CCBA \nErin Umphrey – Therapist \nYou Must have a referral from your PCP to attend!
URL:https://www.neveterans.com/event/pool-therapy-2/2030-08-01/
LOCATION:CCBA Witherell Recreation Center\, 1 Taylor St\, Lebanon\, NH\, 03766\, United States
END:VEVENT
BEGIN:VEVENT
DTSTART;TZID=America/New_York:20300805T130000
DTEND;TZID=America/New_York:20300805T140000
DTSTAMP:20260419T202904
CREATED:20251115T150907Z
LAST-MODIFIED:20251115T150907Z
UID:10001085-1912165200-1912168800@www.neveterans.com
SUMMARY:Pool Therapy
DESCRIPTION:Pool Therapy\nat CCBA \nErin Umphrey – Therapist \nYou Must have a referral from your PCP to attend!
URL:https://www.neveterans.com/event/pool-therapy/2030-08-05/
LOCATION:NH
END:VEVENT
BEGIN:VEVENT
DTSTART;TZID=America/New_York:20300805T140000
DTEND;TZID=America/New_York:20300805T153000
DTSTAMP:20260419T202904
CREATED:20250924T215331Z
LAST-MODIFIED:20250925T135625Z
UID:10000776-1912168800-1912174200@www.neveterans.com
SUMMARY:neveterans Coffee Social
DESCRIPTION:neveterans Monday Coffee Social\nAfter Aqua Therapy \nat CCBA \n(Every Monday unless posted otherwise\, check the calendar.) \n2:00 pm \nCoffee\, Snacks\, Conversation \nAll are welcome!
URL:https://www.neveterans.com/event/neveterans-coffee-social/2030-08-05/
LOCATION:CCBA Witherell Recreation Center\, 1 Taylor St\, Lebanon\, NH\, 03766\, United States
CATEGORIES:Social
ORGANIZER;CN="neveterans":MAILTO:support@neveterans.com
END:VEVENT
BEGIN:VEVENT
DTSTART;TZID=America/New_York:20300808T130000
DTEND;TZID=America/New_York:20300808T140000
DTSTAMP:20260419T202904
CREATED:20251115T151746Z
LAST-MODIFIED:20251115T151746Z
UID:10001344-1912424400-1912428000@www.neveterans.com
SUMMARY:Pool Therapy
DESCRIPTION:Pool Therapy\nat CCBA \nErin Umphrey – Therapist \nYou Must have a referral from your PCP to attend!
URL:https://www.neveterans.com/event/pool-therapy-2/2030-08-08/
LOCATION:CCBA Witherell Recreation Center\, 1 Taylor St\, Lebanon\, NH\, 03766\, United States
END:VEVENT
BEGIN:VEVENT
DTSTART;TZID=America/New_York:20300812T130000
DTEND;TZID=America/New_York:20300812T140000
DTSTAMP:20260419T202904
CREATED:20251115T150907Z
LAST-MODIFIED:20251115T150907Z
UID:10001086-1912770000-1912773600@www.neveterans.com
SUMMARY:Pool Therapy
DESCRIPTION:Pool Therapy\nat CCBA \nErin Umphrey – Therapist \nYou Must have a referral from your PCP to attend!
URL:https://www.neveterans.com/event/pool-therapy/2030-08-12/
LOCATION:NH
END:VEVENT
BEGIN:VEVENT
DTSTART;TZID=America/New_York:20300812T140000
DTEND;TZID=America/New_York:20300812T153000
DTSTAMP:20260419T202904
CREATED:20250924T215331Z
LAST-MODIFIED:20250925T135625Z
UID:10000777-1912773600-1912779000@www.neveterans.com
SUMMARY:neveterans Coffee Social
DESCRIPTION:neveterans Monday Coffee Social\nAfter Aqua Therapy \nat CCBA \n(Every Monday unless posted otherwise\, check the calendar.) \n2:00 pm \nCoffee\, Snacks\, Conversation \nAll are welcome!
URL:https://www.neveterans.com/event/neveterans-coffee-social/2030-08-12/
LOCATION:CCBA Witherell Recreation Center\, 1 Taylor St\, Lebanon\, NH\, 03766\, United States
CATEGORIES:Social
ORGANIZER;CN="neveterans":MAILTO:support@neveterans.com
END:VEVENT
BEGIN:VEVENT
DTSTART;TZID=America/New_York:20300815T130000
DTEND;TZID=America/New_York:20300815T140000
DTSTAMP:20260419T202904
CREATED:20251115T151746Z
LAST-MODIFIED:20251115T151746Z
UID:10001345-1913029200-1913032800@www.neveterans.com
SUMMARY:Pool Therapy
DESCRIPTION:Pool Therapy\nat CCBA \nErin Umphrey – Therapist \nYou Must have a referral from your PCP to attend!
URL:https://www.neveterans.com/event/pool-therapy-2/2030-08-15/
LOCATION:CCBA Witherell Recreation Center\, 1 Taylor St\, Lebanon\, NH\, 03766\, United States
END:VEVENT
BEGIN:VEVENT
DTSTART;TZID=America/New_York:20300819T130000
DTEND;TZID=America/New_York:20300819T140000
DTSTAMP:20260419T202904
CREATED:20251115T150907Z
LAST-MODIFIED:20251115T150907Z
UID:10001087-1913374800-1913378400@www.neveterans.com
SUMMARY:Pool Therapy
DESCRIPTION:Pool Therapy\nat CCBA \nErin Umphrey – Therapist \nYou Must have a referral from your PCP to attend!
URL:https://www.neveterans.com/event/pool-therapy/2030-08-19/
LOCATION:NH
END:VEVENT
BEGIN:VEVENT
DTSTART;TZID=America/New_York:20300819T140000
DTEND;TZID=America/New_York:20300819T153000
DTSTAMP:20260419T202904
CREATED:20250924T215331Z
LAST-MODIFIED:20250925T135625Z
UID:10000778-1913378400-1913383800@www.neveterans.com
SUMMARY:neveterans Coffee Social
DESCRIPTION:neveterans Monday Coffee Social\nAfter Aqua Therapy \nat CCBA \n(Every Monday unless posted otherwise\, check the calendar.) \n2:00 pm \nCoffee\, Snacks\, Conversation \nAll are welcome!
URL:https://www.neveterans.com/event/neveterans-coffee-social/2030-08-19/
LOCATION:CCBA Witherell Recreation Center\, 1 Taylor St\, Lebanon\, NH\, 03766\, United States
CATEGORIES:Social
ORGANIZER;CN="neveterans":MAILTO:support@neveterans.com
END:VEVENT
BEGIN:VEVENT
DTSTART;TZID=America/New_York:20300822T130000
DTEND;TZID=America/New_York:20300822T140000
DTSTAMP:20260419T202904
CREATED:20251115T151746Z
LAST-MODIFIED:20251115T151746Z
UID:10001346-1913634000-1913637600@www.neveterans.com
SUMMARY:Pool Therapy
DESCRIPTION:Pool Therapy\nat CCBA \nErin Umphrey – Therapist \nYou Must have a referral from your PCP to attend!
URL:https://www.neveterans.com/event/pool-therapy-2/2030-08-22/
LOCATION:CCBA Witherell Recreation Center\, 1 Taylor St\, Lebanon\, NH\, 03766\, United States
END:VEVENT
BEGIN:VEVENT
DTSTART;TZID=America/New_York:20300826T130000
DTEND;TZID=America/New_York:20300826T140000
DTSTAMP:20260419T202904
CREATED:20251115T150907Z
LAST-MODIFIED:20251115T150907Z
UID:10001088-1913979600-1913983200@www.neveterans.com
SUMMARY:Pool Therapy
DESCRIPTION:Pool Therapy\nat CCBA \nErin Umphrey – Therapist \nYou Must have a referral from your PCP to attend!
URL:https://www.neveterans.com/event/pool-therapy/2030-08-26/
LOCATION:NH
END:VEVENT
BEGIN:VEVENT
DTSTART;TZID=America/New_York:20300826T140000
DTEND;TZID=America/New_York:20300826T153000
DTSTAMP:20260419T202904
CREATED:20250924T215331Z
LAST-MODIFIED:20250925T135625Z
UID:10000779-1913983200-1913988600@www.neveterans.com
SUMMARY:neveterans Coffee Social
DESCRIPTION:neveterans Monday Coffee Social\nAfter Aqua Therapy \nat CCBA \n(Every Monday unless posted otherwise\, check the calendar.) \n2:00 pm \nCoffee\, Snacks\, Conversation \nAll are welcome!
URL:https://www.neveterans.com/event/neveterans-coffee-social/2030-08-26/
LOCATION:CCBA Witherell Recreation Center\, 1 Taylor St\, Lebanon\, NH\, 03766\, United States
CATEGORIES:Social
ORGANIZER;CN="neveterans":MAILTO:support@neveterans.com
END:VEVENT
BEGIN:VEVENT
DTSTART;TZID=America/New_York:20300829T130000
DTEND;TZID=America/New_York:20300829T140000
DTSTAMP:20260419T202904
CREATED:20251115T151746Z
LAST-MODIFIED:20251115T151746Z
UID:10001347-1914238800-1914242400@www.neveterans.com
SUMMARY:Pool Therapy
DESCRIPTION:Pool Therapy\nat CCBA \nErin Umphrey – Therapist \nYou Must have a referral from your PCP to attend!
URL:https://www.neveterans.com/event/pool-therapy-2/2030-08-29/
LOCATION:CCBA Witherell Recreation Center\, 1 Taylor St\, Lebanon\, NH\, 03766\, United States
END:VEVENT
BEGIN:VEVENT
DTSTART;TZID=America/New_York:20300902T130000
DTEND;TZID=America/New_York:20300902T140000
DTSTAMP:20260419T202904
CREATED:20251115T150907Z
LAST-MODIFIED:20251115T150907Z
UID:10001089-1914584400-1914588000@www.neveterans.com
SUMMARY:Pool Therapy
DESCRIPTION:Pool Therapy\nat CCBA \nErin Umphrey – Therapist \nYou Must have a referral from your PCP to attend!
URL:https://www.neveterans.com/event/pool-therapy/2030-09-02/
LOCATION:NH
END:VEVENT
BEGIN:VEVENT
DTSTART;TZID=America/New_York:20300902T140000
DTEND;TZID=America/New_York:20300902T153000
DTSTAMP:20260419T202904
CREATED:20250924T215331Z
LAST-MODIFIED:20250925T135625Z
UID:10000780-1914588000-1914593400@www.neveterans.com
SUMMARY:neveterans Coffee Social
DESCRIPTION:neveterans Monday Coffee Social\nAfter Aqua Therapy \nat CCBA \n(Every Monday unless posted otherwise\, check the calendar.) \n2:00 pm \nCoffee\, Snacks\, Conversation \nAll are welcome!
URL:https://www.neveterans.com/event/neveterans-coffee-social/2030-09-02/
LOCATION:CCBA Witherell Recreation Center\, 1 Taylor St\, Lebanon\, NH\, 03766\, United States
CATEGORIES:Social
ORGANIZER;CN="neveterans":MAILTO:support@neveterans.com
END:VEVENT
BEGIN:VEVENT
DTSTART;TZID=America/New_York:20300905T130000
DTEND;TZID=America/New_York:20300905T140000
DTSTAMP:20260419T202904
CREATED:20251115T151746Z
LAST-MODIFIED:20251115T151746Z
UID:10001348-1914843600-1914847200@www.neveterans.com
SUMMARY:Pool Therapy
DESCRIPTION:Pool Therapy\nat CCBA \nErin Umphrey – Therapist \nYou Must have a referral from your PCP to attend!
URL:https://www.neveterans.com/event/pool-therapy-2/2030-09-05/
LOCATION:CCBA Witherell Recreation Center\, 1 Taylor St\, Lebanon\, NH\, 03766\, United States
END:VEVENT
BEGIN:VEVENT
DTSTART;TZID=America/New_York:20300909T130000
DTEND;TZID=America/New_York:20300909T140000
DTSTAMP:20260419T202904
CREATED:20251115T150907Z
LAST-MODIFIED:20251115T150907Z
UID:10001090-1915189200-1915192800@www.neveterans.com
SUMMARY:Pool Therapy
DESCRIPTION:Pool Therapy\nat CCBA \nErin Umphrey – Therapist \nYou Must have a referral from your PCP to attend!
URL:https://www.neveterans.com/event/pool-therapy/2030-09-09/
LOCATION:NH
END:VEVENT
BEGIN:VEVENT
DTSTART;TZID=America/New_York:20300909T140000
DTEND;TZID=America/New_York:20300909T153000
DTSTAMP:20260419T202904
CREATED:20250924T215331Z
LAST-MODIFIED:20250925T135625Z
UID:10000781-1915192800-1915198200@www.neveterans.com
SUMMARY:neveterans Coffee Social
DESCRIPTION:neveterans Monday Coffee Social\nAfter Aqua Therapy \nat CCBA \n(Every Monday unless posted otherwise\, check the calendar.) \n2:00 pm \nCoffee\, Snacks\, Conversation \nAll are welcome!
URL:https://www.neveterans.com/event/neveterans-coffee-social/2030-09-09/
LOCATION:CCBA Witherell Recreation Center\, 1 Taylor St\, Lebanon\, NH\, 03766\, United States
CATEGORIES:Social
ORGANIZER;CN="neveterans":MAILTO:support@neveterans.com
END:VEVENT
BEGIN:VEVENT
DTSTART;TZID=America/New_York:20300912T130000
DTEND;TZID=America/New_York:20300912T140000
DTSTAMP:20260419T202904
CREATED:20251115T151746Z
LAST-MODIFIED:20251115T151746Z
UID:10001349-1915448400-1915452000@www.neveterans.com
SUMMARY:Pool Therapy
DESCRIPTION:Pool Therapy\nat CCBA \nErin Umphrey – Therapist \nYou Must have a referral from your PCP to attend!
URL:https://www.neveterans.com/event/pool-therapy-2/2030-09-12/
LOCATION:CCBA Witherell Recreation Center\, 1 Taylor St\, Lebanon\, NH\, 03766\, United States
END:VEVENT
BEGIN:VEVENT
DTSTART;TZID=America/New_York:20300916T130000
DTEND;TZID=America/New_York:20300916T140000
DTSTAMP:20260419T202904
CREATED:20251115T150907Z
LAST-MODIFIED:20251115T150907Z
UID:10001091-1915794000-1915797600@www.neveterans.com
SUMMARY:Pool Therapy
DESCRIPTION:Pool Therapy\nat CCBA \nErin Umphrey – Therapist \nYou Must have a referral from your PCP to attend!
URL:https://www.neveterans.com/event/pool-therapy/2030-09-16/
LOCATION:NH
END:VEVENT
BEGIN:VEVENT
DTSTART;TZID=America/New_York:20300916T140000
DTEND;TZID=America/New_York:20300916T153000
DTSTAMP:20260419T202904
CREATED:20250924T215331Z
LAST-MODIFIED:20250925T135625Z
UID:10000782-1915797600-1915803000@www.neveterans.com
SUMMARY:neveterans Coffee Social
DESCRIPTION:neveterans Monday Coffee Social\nAfter Aqua Therapy \nat CCBA \n(Every Monday unless posted otherwise\, check the calendar.) \n2:00 pm \nCoffee\, Snacks\, Conversation \nAll are welcome!
URL:https://www.neveterans.com/event/neveterans-coffee-social/2030-09-16/
LOCATION:CCBA Witherell Recreation Center\, 1 Taylor St\, Lebanon\, NH\, 03766\, United States
CATEGORIES:Social
ORGANIZER;CN="neveterans":MAILTO:support@neveterans.com
END:VEVENT
BEGIN:VEVENT
DTSTART;TZID=America/New_York:20300919T130000
DTEND;TZID=America/New_York:20300919T140000
DTSTAMP:20260419T202904
CREATED:20251115T151746Z
LAST-MODIFIED:20251115T151746Z
UID:10001350-1916053200-1916056800@www.neveterans.com
SUMMARY:Pool Therapy
DESCRIPTION:Pool Therapy\nat CCBA \nErin Umphrey – Therapist \nYou Must have a referral from your PCP to attend!
URL:https://www.neveterans.com/event/pool-therapy-2/2030-09-19/
LOCATION:CCBA Witherell Recreation Center\, 1 Taylor St\, Lebanon\, NH\, 03766\, United States
END:VEVENT
END:VCALENDAR