BEGIN:VCALENDAR
VERSION:2.0
PRODID:-//neveterans - ECPv6.15.20//NONSGML v1.0//EN
CALSCALE:GREGORIAN
METHOD:PUBLISH
X-ORIGINAL-URL:https://www.neveterans.com
X-WR-CALDESC:Events for neveterans
REFRESH-INTERVAL;VALUE=DURATION:PT1H
X-Robots-Tag:noindex
X-PUBLISHED-TTL:PT1H
BEGIN:VTIMEZONE
TZID:America/New_York
BEGIN:DAYLIGHT
TZOFFSETFROM:-0500
TZOFFSETTO:-0400
TZNAME:EDT
DTSTART:20290311T070000
END:DAYLIGHT
BEGIN:STANDARD
TZOFFSETFROM:-0400
TZOFFSETTO:-0500
TZNAME:EST
DTSTART:20291104T060000
END:STANDARD
BEGIN:DAYLIGHT
TZOFFSETFROM:-0500
TZOFFSETTO:-0400
TZNAME:EDT
DTSTART:20300310T070000
END:DAYLIGHT
BEGIN:STANDARD
TZOFFSETFROM:-0400
TZOFFSETTO:-0500
TZNAME:EST
DTSTART:20301103T060000
END:STANDARD
BEGIN:DAYLIGHT
TZOFFSETFROM:-0500
TZOFFSETTO:-0400
TZNAME:EDT
DTSTART:20310309T070000
END:DAYLIGHT
BEGIN:STANDARD
TZOFFSETFROM:-0400
TZOFFSETTO:-0500
TZNAME:EST
DTSTART:20311102T060000
END:STANDARD
END:VTIMEZONE
BEGIN:VEVENT
DTSTART;TZID=America/New_York:20300930T130000
DTEND;TZID=America/New_York:20300930T140000
DTSTAMP:20260421T113603
CREATED:20251115T150907Z
LAST-MODIFIED:20251115T150907Z
UID:10001093-1917003600-1917007200@www.neveterans.com
SUMMARY:Pool Therapy
DESCRIPTION:Pool Therapy\nat CCBA \nErin Umphrey – Therapist \nYou Must have a referral from your PCP to attend!
URL:https://www.neveterans.com/event/pool-therapy/2030-09-30/
LOCATION:NH
END:VEVENT
BEGIN:VEVENT
DTSTART;TZID=America/New_York:20301003T130000
DTEND;TZID=America/New_York:20301003T140000
DTSTAMP:20260421T113603
CREATED:20251115T151746Z
LAST-MODIFIED:20251115T151746Z
UID:10001352-1917262800-1917266400@www.neveterans.com
SUMMARY:Pool Therapy
DESCRIPTION:Pool Therapy\nat CCBA \nErin Umphrey – Therapist \nYou Must have a referral from your PCP to attend!
URL:https://www.neveterans.com/event/pool-therapy-2/2030-10-03/
LOCATION:CCBA Witherell Recreation Center\, 1 Taylor St\, Lebanon\, NH\, 03766\, United States
END:VEVENT
BEGIN:VEVENT
DTSTART;TZID=America/New_York:20301007T130000
DTEND;TZID=America/New_York:20301007T140000
DTSTAMP:20260421T113603
CREATED:20251115T150907Z
LAST-MODIFIED:20251115T150907Z
UID:10001094-1917608400-1917612000@www.neveterans.com
SUMMARY:Pool Therapy
DESCRIPTION:Pool Therapy\nat CCBA \nErin Umphrey – Therapist \nYou Must have a referral from your PCP to attend!
URL:https://www.neveterans.com/event/pool-therapy/2030-10-07/
LOCATION:NH
END:VEVENT
BEGIN:VEVENT
DTSTART;TZID=America/New_York:20301010T130000
DTEND;TZID=America/New_York:20301010T140000
DTSTAMP:20260421T113603
CREATED:20251115T151746Z
LAST-MODIFIED:20251115T151746Z
UID:10001353-1917867600-1917871200@www.neveterans.com
SUMMARY:Pool Therapy
DESCRIPTION:Pool Therapy\nat CCBA \nErin Umphrey – Therapist \nYou Must have a referral from your PCP to attend!
URL:https://www.neveterans.com/event/pool-therapy-2/2030-10-10/
LOCATION:CCBA Witherell Recreation Center\, 1 Taylor St\, Lebanon\, NH\, 03766\, United States
END:VEVENT
BEGIN:VEVENT
DTSTART;TZID=America/New_York:20301014T130000
DTEND;TZID=America/New_York:20301014T140000
DTSTAMP:20260421T113603
CREATED:20251115T150907Z
LAST-MODIFIED:20251115T150907Z
UID:10001095-1918213200-1918216800@www.neveterans.com
SUMMARY:Pool Therapy
DESCRIPTION:Pool Therapy\nat CCBA \nErin Umphrey – Therapist \nYou Must have a referral from your PCP to attend!
URL:https://www.neveterans.com/event/pool-therapy/2030-10-14/
LOCATION:NH
END:VEVENT
BEGIN:VEVENT
DTSTART;TZID=America/New_York:20301017T130000
DTEND;TZID=America/New_York:20301017T140000
DTSTAMP:20260421T113603
CREATED:20251115T151746Z
LAST-MODIFIED:20251115T151746Z
UID:10001354-1918472400-1918476000@www.neveterans.com
SUMMARY:Pool Therapy
DESCRIPTION:Pool Therapy\nat CCBA \nErin Umphrey – Therapist \nYou Must have a referral from your PCP to attend!
URL:https://www.neveterans.com/event/pool-therapy-2/2030-10-17/
LOCATION:CCBA Witherell Recreation Center\, 1 Taylor St\, Lebanon\, NH\, 03766\, United States
END:VEVENT
BEGIN:VEVENT
DTSTART;TZID=America/New_York:20301021T130000
DTEND;TZID=America/New_York:20301021T140000
DTSTAMP:20260421T113603
CREATED:20251115T150907Z
LAST-MODIFIED:20251115T150907Z
UID:10001096-1918818000-1918821600@www.neveterans.com
SUMMARY:Pool Therapy
DESCRIPTION:Pool Therapy\nat CCBA \nErin Umphrey – Therapist \nYou Must have a referral from your PCP to attend!
URL:https://www.neveterans.com/event/pool-therapy/2030-10-21/
LOCATION:NH
END:VEVENT
BEGIN:VEVENT
DTSTART;TZID=America/New_York:20301024T130000
DTEND;TZID=America/New_York:20301024T140000
DTSTAMP:20260421T113603
CREATED:20251115T151746Z
LAST-MODIFIED:20251115T151746Z
UID:10001355-1919077200-1919080800@www.neveterans.com
SUMMARY:Pool Therapy
DESCRIPTION:Pool Therapy\nat CCBA \nErin Umphrey – Therapist \nYou Must have a referral from your PCP to attend!
URL:https://www.neveterans.com/event/pool-therapy-2/2030-10-24/
LOCATION:CCBA Witherell Recreation Center\, 1 Taylor St\, Lebanon\, NH\, 03766\, United States
END:VEVENT
BEGIN:VEVENT
DTSTART;TZID=America/New_York:20301028T130000
DTEND;TZID=America/New_York:20301028T140000
DTSTAMP:20260421T113603
CREATED:20251115T150907Z
LAST-MODIFIED:20251115T150907Z
UID:10001097-1919422800-1919426400@www.neveterans.com
SUMMARY:Pool Therapy
DESCRIPTION:Pool Therapy\nat CCBA \nErin Umphrey – Therapist \nYou Must have a referral from your PCP to attend!
URL:https://www.neveterans.com/event/pool-therapy/2030-10-28/
LOCATION:NH
END:VEVENT
BEGIN:VEVENT
DTSTART;TZID=America/New_York:20301031T130000
DTEND;TZID=America/New_York:20301031T140000
DTSTAMP:20260421T113603
CREATED:20251115T151746Z
LAST-MODIFIED:20251115T151746Z
UID:10001356-1919682000-1919685600@www.neveterans.com
SUMMARY:Pool Therapy
DESCRIPTION:Pool Therapy\nat CCBA \nErin Umphrey – Therapist \nYou Must have a referral from your PCP to attend!
URL:https://www.neveterans.com/event/pool-therapy-2/2030-10-31/
LOCATION:CCBA Witherell Recreation Center\, 1 Taylor St\, Lebanon\, NH\, 03766\, United States
END:VEVENT
BEGIN:VEVENT
DTSTART;TZID=America/New_York:20301104T130000
DTEND;TZID=America/New_York:20301104T140000
DTSTAMP:20260421T113603
CREATED:20251115T150907Z
LAST-MODIFIED:20251115T150907Z
UID:10001098-1920027600-1920031200@www.neveterans.com
SUMMARY:Pool Therapy
DESCRIPTION:Pool Therapy\nat CCBA \nErin Umphrey – Therapist \nYou Must have a referral from your PCP to attend!
URL:https://www.neveterans.com/event/pool-therapy/2030-11-04/
LOCATION:NH
END:VEVENT
BEGIN:VEVENT
DTSTART;TZID=America/New_York:20301107T130000
DTEND;TZID=America/New_York:20301107T140000
DTSTAMP:20260421T113603
CREATED:20251115T151746Z
LAST-MODIFIED:20251115T151746Z
UID:10001357-1920286800-1920290400@www.neveterans.com
SUMMARY:Pool Therapy
DESCRIPTION:Pool Therapy\nat CCBA \nErin Umphrey – Therapist \nYou Must have a referral from your PCP to attend!
URL:https://www.neveterans.com/event/pool-therapy-2/2030-11-07/
LOCATION:CCBA Witherell Recreation Center\, 1 Taylor St\, Lebanon\, NH\, 03766\, United States
END:VEVENT
BEGIN:VEVENT
DTSTART;TZID=America/New_York:20301111T130000
DTEND;TZID=America/New_York:20301111T140000
DTSTAMP:20260421T113603
CREATED:20251115T150907Z
LAST-MODIFIED:20251115T150907Z
UID:10001099-1920632400-1920636000@www.neveterans.com
SUMMARY:Pool Therapy
DESCRIPTION:Pool Therapy\nat CCBA \nErin Umphrey – Therapist \nYou Must have a referral from your PCP to attend!
URL:https://www.neveterans.com/event/pool-therapy/2030-11-11/
LOCATION:NH
END:VEVENT
BEGIN:VEVENT
DTSTART;TZID=America/New_York:20301114T130000
DTEND;TZID=America/New_York:20301114T140000
DTSTAMP:20260421T113603
CREATED:20251115T151746Z
LAST-MODIFIED:20251115T151746Z
UID:10001358-1920891600-1920895200@www.neveterans.com
SUMMARY:Pool Therapy
DESCRIPTION:Pool Therapy\nat CCBA \nErin Umphrey – Therapist \nYou Must have a referral from your PCP to attend!
URL:https://www.neveterans.com/event/pool-therapy-2/2030-11-14/
LOCATION:CCBA Witherell Recreation Center\, 1 Taylor St\, Lebanon\, NH\, 03766\, United States
END:VEVENT
END:VCALENDAR